BEGIN:VCALENDAR
VERSION:2.0
CALSCALE:GREGORIAN
METHOD:PUBLISH
X-WR-TIMEZONE:Australia/Sydney
BEGIN:VTIMEZONE
TZID:Australia/Sydney
BEGIN:STANDARD
TZNAME:AEST
DTSTART:19700101T000000
TZOFFSETFROM:+1100
TZOFFSETTO:+1000
END:STANDARD
END:VTIMEZONE
BEGIN:VEVENT
DTSTART;TZID=Australia/Sydney:20250501
DTEND;TZID=Australia/Sydney:20250501
DTSTAMP:20260420T185900
UID:163
SUMMARY:Year 11 Outdoor Ed Camp - Dwellingup
DESCRIPTION:




As part of the Year 11 Outdoor Education curriculum students are required to go on a camp to demonstrate their mountain biking, cooking, camping, preparation and leadership skills.&amp;nbsp;Students will be demonstrating these skills throughout a class mountain bike expedition, riding along the Marrinup Trial and Munda Biddi Trail in the Dwellingup section of the trail.


SEQUENCE:0
STATUS:CONFIRMED
TRANSP:OPAQUE
END:VEVENT
END:VCALENDAR